BEGIN:VCALENDAR
VERSION:2.0
PRODID:-//American Legion Post 16 - ECPv6.15.20//NONSGML v1.0//EN
CALSCALE:GREGORIAN
METHOD:PUBLISH
X-WR-CALNAME:American Legion Post 16
X-ORIGINAL-URL:https://post16shelton.org
X-WR-CALDESC:Events for American Legion Post 16
REFRESH-INTERVAL;VALUE=DURATION:PT1H
X-Robots-Tag:noindex
X-PUBLISHED-TTL:PT1H
BEGIN:VTIMEZONE
TZID:America/Halifax
BEGIN:DAYLIGHT
TZOFFSETFROM:-0400
TZOFFSETTO:-0300
TZNAME:ADT
DTSTART:20160313T060000
END:DAYLIGHT
BEGIN:STANDARD
TZOFFSETFROM:-0300
TZOFFSETTO:-0400
TZNAME:AST
DTSTART:20161106T050000
END:STANDARD
BEGIN:DAYLIGHT
TZOFFSETFROM:-0400
TZOFFSETTO:-0300
TZNAME:ADT
DTSTART:20170312T060000
END:DAYLIGHT
BEGIN:STANDARD
TZOFFSETFROM:-0300
TZOFFSETTO:-0400
TZNAME:AST
DTSTART:20171105T050000
END:STANDARD
BEGIN:DAYLIGHT
TZOFFSETFROM:-0400
TZOFFSETTO:-0300
TZNAME:ADT
DTSTART:20180311T060000
END:DAYLIGHT
BEGIN:STANDARD
TZOFFSETFROM:-0300
TZOFFSETTO:-0400
TZNAME:AST
DTSTART:20181104T050000
END:STANDARD
END:VTIMEZONE
BEGIN:VEVENT
DTSTART;TZID=America/Halifax:20170430T120000
DTEND;TZID=America/Halifax:20170430T123000
DTSTAMP:20260419T215833
CREATED:20170129T175400Z
LAST-MODIFIED:20170129T182124Z
UID:936-1493553600-1493555400@post16shelton.org
SUMMARY:Port 5 - New Flagpole Dedication Ceremony
DESCRIPTION:All are invited to a dedication for the new (60 foot!) flagpole just installed at Port 5.  All Service Branches will be honored and represented. \nLunch will be served after the ceremony so PLEASE RSVP  to jhoar45@gmail.com before April 21.  Subject line: P5 FLAG.  Please include number of attendees. \n 
URL:https://post16shelton.org/event/new-flagpole-dedication-at-port-5/
LOCATION:Port 5 Veterans Association\, 69 Brewster Street\, Bridgeport\, CT\, United States
ORGANIZER;CN="MCPO Richard Iannucci":MAILTO:jhoar45@gmail.com
END:VEVENT
END:VCALENDAR