BEGIN:VCALENDAR
VERSION:2.0
PRODID:-//American Legion Post 16 - ECPv6.15.20//NONSGML v1.0//EN
CALSCALE:GREGORIAN
METHOD:PUBLISH
X-WR-CALNAME:American Legion Post 16
X-ORIGINAL-URL:https://post16shelton.org
X-WR-CALDESC:Events for American Legion Post 16
REFRESH-INTERVAL;VALUE=DURATION:PT1H
X-Robots-Tag:noindex
X-PUBLISHED-TTL:PT1H
BEGIN:VTIMEZONE
TZID:America/Halifax
BEGIN:DAYLIGHT
TZOFFSETFROM:-0400
TZOFFSETTO:-0300
TZNAME:ADT
DTSTART:20170312T060000
END:DAYLIGHT
BEGIN:STANDARD
TZOFFSETFROM:-0300
TZOFFSETTO:-0400
TZNAME:AST
DTSTART:20171105T050000
END:STANDARD
BEGIN:DAYLIGHT
TZOFFSETFROM:-0400
TZOFFSETTO:-0300
TZNAME:ADT
DTSTART:20180311T060000
END:DAYLIGHT
BEGIN:STANDARD
TZOFFSETFROM:-0300
TZOFFSETTO:-0400
TZNAME:AST
DTSTART:20181104T050000
END:STANDARD
BEGIN:DAYLIGHT
TZOFFSETFROM:-0400
TZOFFSETTO:-0300
TZNAME:ADT
DTSTART:20190310T060000
END:DAYLIGHT
BEGIN:STANDARD
TZOFFSETFROM:-0300
TZOFFSETTO:-0400
TZNAME:AST
DTSTART:20191103T050000
END:STANDARD
END:VTIMEZONE
BEGIN:VEVENT
DTSTART;TZID=America/Halifax:20180318T120000
DTEND;TZID=America/Halifax:20180318T153000
DTSTAMP:20260419T212320
CREATED:20151124T174017Z
LAST-MODIFIED:20171205T174123Z
UID:650-1521374400-1521387000@post16shelton.org
SUMMARY:Spring Membership Meeting
DESCRIPTION:Event Payment -- Dues Payment -- DONATE to the YAA\n  \nSpeaker:  TBA
URL:https://post16shelton.org/event/spring-membership-meeting/
LOCATION:Adams Rib\, Norwalk Inn\, Norwalk
END:VEVENT
END:VCALENDAR