BEGIN:VCALENDAR
VERSION:2.0
PRODID:-//American Legion Post 16 - ECPv6.15.20//NONSGML v1.0//EN
CALSCALE:GREGORIAN
METHOD:PUBLISH
X-WR-CALNAME:American Legion Post 16
X-ORIGINAL-URL:https://post16shelton.org
X-WR-CALDESC:Events for American Legion Post 16
REFRESH-INTERVAL;VALUE=DURATION:PT1H
X-Robots-Tag:noindex
X-PUBLISHED-TTL:PT1H
BEGIN:VTIMEZONE
TZID:America/New_York
BEGIN:DAYLIGHT
TZOFFSETFROM:-0500
TZOFFSETTO:-0400
TZNAME:EDT
DTSTART:20180311T070000
END:DAYLIGHT
BEGIN:STANDARD
TZOFFSETFROM:-0400
TZOFFSETTO:-0500
TZNAME:EST
DTSTART:20181104T060000
END:STANDARD
BEGIN:DAYLIGHT
TZOFFSETFROM:-0500
TZOFFSETTO:-0400
TZNAME:EDT
DTSTART:20190310T070000
END:DAYLIGHT
BEGIN:STANDARD
TZOFFSETFROM:-0400
TZOFFSETTO:-0500
TZNAME:EST
DTSTART:20191103T060000
END:STANDARD
BEGIN:DAYLIGHT
TZOFFSETFROM:-0500
TZOFFSETTO:-0400
TZNAME:EDT
DTSTART:20200308T070000
END:DAYLIGHT
BEGIN:STANDARD
TZOFFSETFROM:-0400
TZOFFSETTO:-0500
TZNAME:EST
DTSTART:20201101T060000
END:STANDARD
END:VTIMEZONE
BEGIN:VEVENT
DTSTART;TZID=America/New_York:20191201T120000
DTEND;TZID=America/New_York:20191201T153000
DTSTAMP:20260421T170613
CREATED:20181115T180530Z
LAST-MODIFIED:20191101T141628Z
UID:1338-1575201600-1575214200@post16shelton.org
SUMMARY:Membership Holiday Event
DESCRIPTION:Directions to The Redding Country Club can be found HERE. \nMENU \n  \nBuffet Lunch  \nWarm Rolls\, Butter \nTraditional Caesar Salad with Roasted Cherry Tomatoes \nRigatoni Bolognese \nEggplant Parmesan \nGrilled Lemon Peppered Scottish Salmon with Sundried Tomato Butter \nRoasted Fingerling Potatoes \nBalsamic Brussel Sprouts with Pancetta and Parmesan \n  \nBeverages \nAssorted Soft Drinks \n  \nDessert \nRedding CC Chocolate Chip Cookies \nDouble Chocolate Brownies \nCoffee & Tea \n 
URL:https://post16shelton.org/event/membership-holiday-event/
LOCATION:Redding Country Club\, 109 Lonetown Road\, Redding\, CT\, 06896\, United States
ORGANIZER;CN="LT Don Boyle":MAILTO:donboyle22@gmail.com
END:VEVENT
END:VCALENDAR